BEGIN:VCALENDAR
VERSION:2.0
PRODID:-//WEST COAST WORLD MARTIAL ARTS NEWARK - ECPv6.15.20//NONSGML v1.0//EN
CALSCALE:GREGORIAN
METHOD:PUBLISH
X-ORIGINAL-URL:https://westcoastnewark.com
X-WR-CALDESC:Events for WEST COAST WORLD MARTIAL ARTS NEWARK
REFRESH-INTERVAL;VALUE=DURATION:PT1H
X-Robots-Tag:noindex
X-PUBLISHED-TTL:PT1H
BEGIN:VTIMEZONE
TZID:America/Los_Angeles
BEGIN:DAYLIGHT
TZOFFSETFROM:-0800
TZOFFSETTO:-0700
TZNAME:PDT
DTSTART:20240310T100000
END:DAYLIGHT
BEGIN:STANDARD
TZOFFSETFROM:-0700
TZOFFSETTO:-0800
TZNAME:PST
DTSTART:20241103T090000
END:STANDARD
BEGIN:DAYLIGHT
TZOFFSETFROM:-0800
TZOFFSETTO:-0700
TZNAME:PDT
DTSTART:20250309T100000
END:DAYLIGHT
BEGIN:STANDARD
TZOFFSETFROM:-0700
TZOFFSETTO:-0800
TZNAME:PST
DTSTART:20251102T090000
END:STANDARD
BEGIN:DAYLIGHT
TZOFFSETFROM:-0800
TZOFFSETTO:-0700
TZNAME:PDT
DTSTART:20260308T100000
END:DAYLIGHT
BEGIN:STANDARD
TZOFFSETFROM:-0700
TZOFFSETTO:-0800
TZNAME:PST
DTSTART:20261101T090000
END:STANDARD
END:VTIMEZONE
BEGIN:VEVENT
DTSTART;TZID=America/Los_Angeles:20250207T170000
DTEND;TZID=America/Los_Angeles:20250207T170000
DTSTAMP:20260422T154953
CREATED:20250204T060950Z
LAST-MODIFIED:20250313T051426Z
UID:10000061-1738947600-1738947600@westcoastnewark.com
SUMMARY:Beginner Dragon Testing
DESCRIPTION:Full uniform\, Sparring Gear and Membership card.
URL:https://westcoastnewark.com/event/beginner-dragon-testing-3/
CATEGORIES:Belt Testing
END:VEVENT
BEGIN:VEVENT
DTSTART;TZID=America/Los_Angeles:20250207T174500
DTEND;TZID=America/Los_Angeles:20250207T174500
DTSTAMP:20260422T154953
CREATED:20250204T060950Z
LAST-MODIFIED:20250313T051426Z
UID:10000062-1738950300-1738950300@westcoastnewark.com
SUMMARY:Intermediate Dragon Testing
DESCRIPTION:Full uniform\, Sparring Gear and Membership card.
URL:https://westcoastnewark.com/event/intermediate-dragon-testing-3/
CATEGORIES:Belt Testing
END:VEVENT
BEGIN:VEVENT
DTSTART;TZID=America/Los_Angeles:20250207T183000
DTEND;TZID=America/Los_Angeles:20250207T183000
DTSTAMP:20260422T154953
CREATED:20250204T060950Z
LAST-MODIFIED:20250313T051427Z
UID:10000063-1738953000-1738953000@westcoastnewark.com
SUMMARY:Advanced Dragon Testing
DESCRIPTION:Full uniform\, Sparring Gear and Membership card.
URL:https://westcoastnewark.com/event/advanced-dragon-testing-3/
CATEGORIES:Belt Testing
END:VEVENT
END:VCALENDAR