BEGIN:VCALENDAR
VERSION:2.0
PRODID:-//WEST COAST WORLD MARTIAL ARTS NEWARK - ECPv6.15.20//NONSGML v1.0//EN
CALSCALE:GREGORIAN
METHOD:PUBLISH
X-WR-CALNAME:WEST COAST WORLD MARTIAL ARTS NEWARK
X-ORIGINAL-URL:https://westcoastnewark.com
X-WR-CALDESC:Events for WEST COAST WORLD MARTIAL ARTS NEWARK
REFRESH-INTERVAL;VALUE=DURATION:PT1H
X-Robots-Tag:noindex
X-PUBLISHED-TTL:PT1H
BEGIN:VTIMEZONE
TZID:America/Los_Angeles
BEGIN:DAYLIGHT
TZOFFSETFROM:-0800
TZOFFSETTO:-0700
TZNAME:PDT
DTSTART:20240310T100000
END:DAYLIGHT
BEGIN:STANDARD
TZOFFSETFROM:-0700
TZOFFSETTO:-0800
TZNAME:PST
DTSTART:20241103T090000
END:STANDARD
BEGIN:DAYLIGHT
TZOFFSETFROM:-0800
TZOFFSETTO:-0700
TZNAME:PDT
DTSTART:20250309T100000
END:DAYLIGHT
BEGIN:STANDARD
TZOFFSETFROM:-0700
TZOFFSETTO:-0800
TZNAME:PST
DTSTART:20251102T090000
END:STANDARD
BEGIN:DAYLIGHT
TZOFFSETFROM:-0800
TZOFFSETTO:-0700
TZNAME:PDT
DTSTART:20260308T100000
END:DAYLIGHT
BEGIN:STANDARD
TZOFFSETFROM:-0700
TZOFFSETTO:-0800
TZNAME:PST
DTSTART:20261101T090000
END:STANDARD
END:VTIMEZONE
BEGIN:VEVENT
DTSTART;TZID=America/Los_Angeles:20250317T160000
DTEND;TZID=America/Los_Angeles:20250317T160000
DTSTAMP:20260422T064701
CREATED:20250313T052236Z
LAST-MODIFIED:20250313T052236Z
UID:10000090-1742227200-1742227200@westcoastnewark.com
SUMMARY:Boark Breaking
DESCRIPTION:Optional in-class event. Boards may be preorderd or ordered at the front desk during register hours.
URL:https://westcoastnewark.com/event/boark-breaking/
CATEGORIES:Board Breaking
END:VEVENT
BEGIN:VEVENT
DTSTART;TZID=America/Los_Angeles:20250317T160000
DTEND;TZID=America/Los_Angeles:20250317T160000
DTSTAMP:20260422T064701
CREATED:20250329T050542Z
LAST-MODIFIED:20250624T052434Z
UID:10000106-1742227200-1742227200@westcoastnewark.com
SUMMARY:Board Breaking
DESCRIPTION:Optional in-class event. Boards may be preorderd or ordered at the front desk during register hours.
URL:https://westcoastnewark.com/event/board-breaking/
CATEGORIES:Board Breaking
END:VEVENT
END:VCALENDAR