BEGIN:VCALENDAR
VERSION:2.0
PRODID:-//WEST COAST WORLD MARTIAL ARTS NEWARK - ECPv6.15.20//NONSGML v1.0//EN
CALSCALE:GREGORIAN
METHOD:PUBLISH
X-WR-CALNAME:WEST COAST WORLD MARTIAL ARTS NEWARK
X-ORIGINAL-URL:https://westcoastnewark.com
X-WR-CALDESC:Events for WEST COAST WORLD MARTIAL ARTS NEWARK
REFRESH-INTERVAL;VALUE=DURATION:PT1H
X-Robots-Tag:noindex
X-PUBLISHED-TTL:PT1H
BEGIN:VTIMEZONE
TZID:America/Los_Angeles
BEGIN:DAYLIGHT
TZOFFSETFROM:-0800
TZOFFSETTO:-0700
TZNAME:PDT
DTSTART:20240310T100000
END:DAYLIGHT
BEGIN:STANDARD
TZOFFSETFROM:-0700
TZOFFSETTO:-0800
TZNAME:PST
DTSTART:20241103T090000
END:STANDARD
BEGIN:DAYLIGHT
TZOFFSETFROM:-0800
TZOFFSETTO:-0700
TZNAME:PDT
DTSTART:20250309T100000
END:DAYLIGHT
BEGIN:STANDARD
TZOFFSETFROM:-0700
TZOFFSETTO:-0800
TZNAME:PST
DTSTART:20251102T090000
END:STANDARD
BEGIN:DAYLIGHT
TZOFFSETFROM:-0800
TZOFFSETTO:-0700
TZNAME:PDT
DTSTART:20260308T100000
END:DAYLIGHT
BEGIN:STANDARD
TZOFFSETFROM:-0700
TZOFFSETTO:-0800
TZNAME:PST
DTSTART:20261101T090000
END:STANDARD
END:VTIMEZONE
BEGIN:VEVENT
DTSTART;VALUE=DATE:20251129
DTEND;VALUE=DATE:20251130
DTSTAMP:20260421T164324
CREATED:20241231T094109Z
LAST-MODIFIED:20251118T040611Z
UID:10000045-1764374400-1764460799@westcoastnewark.com
SUMMARY:Thanksgiving  Weekend
DESCRIPTION:Thanksgtiving Holiday – for all of our blessings.
URL:https://westcoastnewark.com/event/thanksgiving-weekend-2/
CATEGORIES:Holiday
END:VEVENT
BEGIN:VEVENT
DTSTART;VALUE=DATE:20251128
DTEND;VALUE=DATE:20251129
DTSTAMP:20260421T164324
CREATED:20241231T094109Z
LAST-MODIFIED:20251118T040611Z
UID:10000044-1764288000-1764374399@westcoastnewark.com
SUMMARY:Thanksgiving/Black Friday
DESCRIPTION:Thanksgtiving Holiday – for all of our blessings.
URL:https://westcoastnewark.com/event/thanksgiving-black-friday-2/
CATEGORIES:Holiday
END:VEVENT
BEGIN:VEVENT
DTSTART;VALUE=DATE:20251127
DTEND;VALUE=DATE:20251128
DTSTAMP:20260421T164324
CREATED:20241231T093909Z
LAST-MODIFIED:20251118T040611Z
UID:10000043-1764201600-1764287999@westcoastnewark.com
SUMMARY:Thanksgiving Holiday
DESCRIPTION:Thanksgtiving Holiday – for all of our blessings.
URL:https://westcoastnewark.com/event/thanksgiving-holiday-2/
CATEGORIES:Holiday
END:VEVENT
BEGIN:VEVENT
DTSTART;VALUE=DATE:20251122
DTEND;VALUE=DATE:20251123
DTSTAMP:20260421T164324
CREATED:20250329T053519Z
LAST-MODIFIED:20250329T053519Z
UID:10000117-1763769600-1763855999@westcoastnewark.com
SUMMARY:Graduation/Tournament
DESCRIPTION:
URL:https://westcoastnewark.com/event/graduation-tournament/
CATEGORIES:Tournament
END:VEVENT
BEGIN:VEVENT
DTSTART;VALUE=DATE:20251111
DTEND;VALUE=DATE:20251112
DTSTAMP:20260421T164324
CREATED:20250204T062655Z
LAST-MODIFIED:20251118T045030Z
UID:10000075-1762819200-1762905599@westcoastnewark.com
SUMMARY:Veteran's Day
DESCRIPTION:
URL:https://westcoastnewark.com/event/veterans-day-2/
CATEGORIES:Holiday
END:VEVENT
BEGIN:VEVENT
DTSTART;TZID=America/Los_Angeles:20251025T163000
DTEND;TZID=America/Los_Angeles:20251025T163000
DTSTAMP:20260421T164324
CREATED:20250329T053518Z
LAST-MODIFIED:20251118T045115Z
UID:10000116-1761409800-1761409800@westcoastnewark.com
SUMMARY:Fall 2025 Black Belt Test
DESCRIPTION:
URL:https://westcoastnewark.com/event/fall-2025-black-belt-test/
CATEGORIES:Belt Testing
END:VEVENT
BEGIN:VEVENT
DTSTART;TZID=America/Los_Angeles:20251024T163000
DTEND;TZID=America/Los_Angeles:20251024T163000
DTSTAMP:20260421T164324
CREATED:20250329T053318Z
LAST-MODIFIED:20251118T045115Z
UID:10000115-1761323400-1761323400@westcoastnewark.com
SUMMARY:Night of Integration
DESCRIPTION:
URL:https://westcoastnewark.com/event/night-of-integration/
CATEGORIES:Belt Testing
END:VEVENT
BEGIN:VEVENT
DTSTART;TZID=America/Los_Angeles:20251018T163000
DTEND;TZID=America/Los_Angeles:20251018T163000
DTSTAMP:20260421T164324
CREATED:20250329T053317Z
LAST-MODIFIED:20251118T045115Z
UID:10000114-1760805000-1760805000@westcoastnewark.com
SUMMARY:1st Degree Phase I Testing
DESCRIPTION:
URL:https://westcoastnewark.com/event/1st-degree-phase-i-testing/
CATEGORIES:Belt Testing
END:VEVENT
BEGIN:VEVENT
DTSTART;TZID=America/Los_Angeles:20251016T163000
DTEND;TZID=America/Los_Angeles:20251016T163000
DTSTAMP:20260421T164324
CREATED:20250329T053317Z
LAST-MODIFIED:20251118T045059Z
UID:10000113-1760632200-1760632200@westcoastnewark.com
SUMMARY:2nd Degree and above Phase I testing
DESCRIPTION:
URL:https://westcoastnewark.com/event/2nd-degree-and-above-phase-i-testing/
CATEGORIES:Belt Testing
END:VEVENT
BEGIN:VEVENT
DTSTART;TZID=America/Los_Angeles:20251013T000000
DTEND;TZID=America/Los_Angeles:20251013T235959
DTSTAMP:20260421T164324
CREATED:20241231T094713Z
LAST-MODIFIED:20250727T163010Z
UID:10000057-1760313600-1760399999@westcoastnewark.com
SUMMARY:Columbus Day/Indigenous People's Day
DESCRIPTION:
URL:https://westcoastnewark.com/event/columbus-day-indigenous-peoples-day/
CATEGORIES:Holiday
END:VEVENT
BEGIN:VEVENT
DTSTART;TZID=America/Los_Angeles:20251007T163000
DTEND;TZID=America/Los_Angeles:20251007T163000
DTSTAMP:20260421T164324
CREATED:20250329T053118Z
LAST-MODIFIED:20251118T045059Z
UID:10000112-1759854600-1759854600@westcoastnewark.com
SUMMARY:Association Tryouts
DESCRIPTION:
URL:https://westcoastnewark.com/event/association-tryouts/
CATEGORIES:Workout
END:VEVENT
BEGIN:VEVENT
DTSTART;VALUE=DATE:20251006
DTEND;VALUE=DATE:20251007
DTSTAMP:20260421T164324
CREATED:20250329T053117Z
LAST-MODIFIED:20251118T045059Z
UID:10000111-1759708800-1759795199@westcoastnewark.com
SUMMARY:Fall Black Belt Test Fees Due
DESCRIPTION:
URL:https://westcoastnewark.com/event/fall-black-belt-test-fees-due/
CATEGORIES:Deadline
END:VEVENT
BEGIN:VEVENT
DTSTART;VALUE=DATE:20250901
DTEND;VALUE=DATE:20250902
DTSTAMP:20260421T164324
CREATED:20241231T094713Z
LAST-MODIFIED:20251118T045029Z
UID:10000056-1756684800-1756771199@westcoastnewark.com
SUMMARY:Labor Day
DESCRIPTION:
URL:https://westcoastnewark.com/event/labor-day/
CATEGORIES:Holiday
END:VEVENT
BEGIN:VEVENT
DTSTART;VALUE=DATE:20250830
DTEND;VALUE=DATE:20250831
DTSTAMP:20260421T164324
CREATED:20250204T062654Z
LAST-MODIFIED:20250329T051342Z
UID:10000074-1756512000-1756598399@westcoastnewark.com
SUMMARY:Labor Day Weekend
DESCRIPTION:
URL:https://westcoastnewark.com/event/labor-day-weekend/
CATEGORIES:Holiday
END:VEVENT
BEGIN:VEVENT
DTSTART;TZID=America/Los_Angeles:20250802T070000
DTEND;TZID=America/Los_Angeles:20250802T070000
DTSTAMP:20260421T164324
CREATED:20250329T053117Z
LAST-MODIFIED:20251118T045044Z
UID:10000110-1754118000-1754118000@westcoastnewark.com
SUMMARY:Saturday Training for Fall Black Belt test
DESCRIPTION:
URL:https://westcoastnewark.com/event/saturday-training-for-fall-black-belt-test/
CATEGORIES:Workout
END:VEVENT
BEGIN:VEVENT
DTSTART;VALUE=DATE:20250705
DTEND;VALUE=DATE:20250706
DTSTAMP:20260421T164324
CREATED:20241231T094712Z
LAST-MODIFIED:20250329T051342Z
UID:10000055-1751673600-1751759999@westcoastnewark.com
SUMMARY:4th of July Weekend
DESCRIPTION:
URL:https://westcoastnewark.com/event/4th-of-july-weekend/
CATEGORIES:Holiday
END:VEVENT
BEGIN:VEVENT
DTSTART;VALUE=DATE:20250704
DTEND;VALUE=DATE:20250705
DTSTAMP:20260421T164324
CREATED:20241231T094712Z
LAST-MODIFIED:20251118T045016Z
UID:10000054-1751587200-1751673599@westcoastnewark.com
SUMMARY:Independance Day
DESCRIPTION:
URL:https://westcoastnewark.com/event/independance-day/
CATEGORIES:Holiday
END:VEVENT
BEGIN:VEVENT
DTSTART;VALUE=DATE:20250628
DTEND;VALUE=DATE:20250629
DTSTAMP:20260421T164324
CREATED:20250329T052918Z
LAST-MODIFIED:20251118T045044Z
UID:10000108-1751068800-1751155199@westcoastnewark.com
SUMMARY:Boot Camp - Mastery Team and Instructors
DESCRIPTION:
URL:https://westcoastnewark.com/event/boot-camp-mastery-team-and-instructors/
CATEGORIES:Tournament
END:VEVENT
BEGIN:VEVENT
DTSTART;VALUE=DATE:20250628
DTEND;VALUE=DATE:20250629
DTSTAMP:20260421T164324
CREATED:20250329T052918Z
LAST-MODIFIED:20250329T052918Z
UID:10000109-1751068800-1751155199@westcoastnewark.com
SUMMARY:Boot Camp - Mastery Team and Instructors
DESCRIPTION:
URL:https://westcoastnewark.com/event/boot-camp-mastery-team-and-instructors-2/
CATEGORIES:Tournament
END:VEVENT
BEGIN:VEVENT
DTSTART;VALUE=DATE:20250628
DTEND;VALUE=DATE:20250629
DTSTAMP:20260421T164324
CREATED:20250329T052917Z
LAST-MODIFIED:20251118T045044Z
UID:10000107-1751068800-1751155199@westcoastnewark.com
SUMMARY:Boot Camp/Graduation/Tournament
DESCRIPTION:
URL:https://westcoastnewark.com/event/boot-camp-graduation-tournament/
CATEGORIES:Tournament
END:VEVENT
BEGIN:VEVENT
DTSTART;VALUE=DATE:20250628
DTEND;VALUE=DATE:20250629
DTSTAMP:20260421T164324
CREATED:20241117T013724Z
LAST-MODIFIED:20251118T041014Z
UID:10000017-1751068800-1751155199@westcoastnewark.com
SUMMARY:WCWMA Boot Camp
DESCRIPTION:2025 Boot Camp – Unite as a Force of ONE!
URL:https://westcoastnewark.com/event/wcwma-boot-camp/
CATEGORIES:Tournament
END:VEVENT
BEGIN:VEVENT
DTSTART;VALUE=DATE:20250619
DTEND;VALUE=DATE:20250620
DTSTAMP:20260421T164324
CREATED:20241231T094512Z
LAST-MODIFIED:20251118T045015Z
UID:10000053-1750291200-1750377599@westcoastnewark.com
SUMMARY:Juneteenth
DESCRIPTION:
URL:https://westcoastnewark.com/event/juneteenth/
CATEGORIES:Holiday
END:VEVENT
BEGIN:VEVENT
DTSTART;VALUE=DATE:20250526
DTEND;VALUE=DATE:20250527
DTSTAMP:20260421T164324
CREATED:20241231T094512Z
LAST-MODIFIED:20250104T064622Z
UID:10000052-1748217600-1748303999@westcoastnewark.com
SUMMARY:Memorial Day
DESCRIPTION:
URL:https://westcoastnewark.com/event/memorial-day/
CATEGORIES:Holiday
END:VEVENT
BEGIN:VEVENT
DTSTART;VALUE=DATE:20250524
DTEND;VALUE=DATE:20250525
DTSTAMP:20260421T164324
CREATED:20250204T062455Z
LAST-MODIFIED:20251118T045014Z
UID:10000073-1748044800-1748131199@westcoastnewark.com
SUMMARY:Memorial Day
DESCRIPTION:Memorial Day to honor those who gave all to protect our way of life and our freedoms
URL:https://westcoastnewark.com/event/memorial-day-2/
CATEGORIES:Holiday
END:VEVENT
BEGIN:VEVENT
DTSTART;VALUE=DATE:20250426
DTEND;VALUE=DATE:20250427
DTSTAMP:20260421T164324
CREATED:20241117T013723Z
LAST-MODIFIED:20251118T041013Z
UID:10000016-1745625600-1745711999@westcoastnewark.com
SUMMARY:Black Belt Test
DESCRIPTION:Spring 2025 Black Belt Test – Night of Integration 4/25/2025
URL:https://westcoastnewark.com/event/black-belt-test/
CATEGORIES:Belt Testing
END:VEVENT
BEGIN:VEVENT
DTSTART;TZID=America/Los_Angeles:20250425T180000
DTEND;TZID=America/Los_Angeles:20250425T180000
DTSTAMP:20260421T164324
CREATED:20250329T045741Z
LAST-MODIFIED:20250329T045741Z
UID:10000100-1745604000-1745604000@westcoastnewark.com
SUMMARY:Red - Red I Test
DESCRIPTION:Full uniform\, Sparring Gear and Membership card.
URL:https://westcoastnewark.com/event/red-red-i-test-5/
CATEGORIES:Belt Testing
END:VEVENT
BEGIN:VEVENT
DTSTART;TZID=America/Los_Angeles:20250425T170000
DTEND;TZID=America/Los_Angeles:20250425T170000
DTSTAMP:20260421T164324
CREATED:20250329T045740Z
LAST-MODIFIED:20250329T045740Z
UID:10000099-1745600400-1745600400@westcoastnewark.com
SUMMARY:Red - Red I Pretest
DESCRIPTION:Full uniform\, Sparring Gear and Membership card.
URL:https://westcoastnewark.com/event/red-red-i-pretest-5/
CATEGORIES:Belt Testing
END:VEVENT
BEGIN:VEVENT
DTSTART;TZID=America/Los_Angeles:20250425T160000
DTEND;TZID=America/Los_Angeles:20250425T160000
DTSTAMP:20260421T164324
CREATED:20241119T091551Z
LAST-MODIFIED:20251118T041013Z
UID:10000025-1745596800-1745596800@westcoastnewark.com
SUMMARY:Black Belt Night of Integration
DESCRIPTION:Start of Spring 2025 Black Belt Test – Night of Integration
URL:https://westcoastnewark.com/event/black-belt-night-of-integration/
CATEGORIES:Belt Testing
END:VEVENT
BEGIN:VEVENT
DTSTART;TZID=America/Los_Angeles:20250419T111500
DTEND;TZID=America/Los_Angeles:20250419T111500
DTSTAMP:20260421T164324
CREATED:20250329T045942Z
LAST-MODIFIED:20250329T045942Z
UID:10000101-1745061300-1745061300@westcoastnewark.com
SUMMARY:Fall Candidates - R/B (1st Degree Candidate) Prelim Testing
DESCRIPTION:Full uniform\, Sparring Gear and Membership card.
URL:https://westcoastnewark.com/event/fall-candidates-r-b-1st-degree-candidate-prelim-testing/
CATEGORIES:Belt Testing
END:VEVENT
BEGIN:VEVENT
DTSTART;TZID=America/Los_Angeles:20250418T180000
DTEND;TZID=America/Los_Angeles:20250418T180000
DTSTAMP:20260421T164324
CREATED:20250329T045740Z
LAST-MODIFIED:20250329T045740Z
UID:10000098-1744999200-1744999200@westcoastnewark.com
SUMMARY:Brown - Brown I Test
DESCRIPTION:Full uniform\, Sparring Gear and Membership card.
URL:https://westcoastnewark.com/event/brown-brown-i-test-6/
CATEGORIES:Belt Testing
END:VEVENT
END:VCALENDAR