BEGIN:VCALENDAR
VERSION:2.0
PRODID:-//WEST COAST WORLD MARTIAL ARTS NEWARK - ECPv6.15.20//NONSGML v1.0//EN
CALSCALE:GREGORIAN
METHOD:PUBLISH
X-WR-CALNAME:WEST COAST WORLD MARTIAL ARTS NEWARK
X-ORIGINAL-URL:https://westcoastnewark.com
X-WR-CALDESC:Events for WEST COAST WORLD MARTIAL ARTS NEWARK
REFRESH-INTERVAL;VALUE=DURATION:PT1H
X-Robots-Tag:noindex
X-PUBLISHED-TTL:PT1H
BEGIN:VTIMEZONE
TZID:America/Los_Angeles
BEGIN:DAYLIGHT
TZOFFSETFROM:-0800
TZOFFSETTO:-0700
TZNAME:PDT
DTSTART:20240310T100000
END:DAYLIGHT
BEGIN:STANDARD
TZOFFSETFROM:-0700
TZOFFSETTO:-0800
TZNAME:PST
DTSTART:20241103T090000
END:STANDARD
BEGIN:DAYLIGHT
TZOFFSETFROM:-0800
TZOFFSETTO:-0700
TZNAME:PDT
DTSTART:20250309T100000
END:DAYLIGHT
BEGIN:STANDARD
TZOFFSETFROM:-0700
TZOFFSETTO:-0800
TZNAME:PST
DTSTART:20251102T090000
END:STANDARD
BEGIN:DAYLIGHT
TZOFFSETFROM:-0800
TZOFFSETTO:-0700
TZNAME:PDT
DTSTART:20260308T100000
END:DAYLIGHT
BEGIN:STANDARD
TZOFFSETFROM:-0700
TZOFFSETTO:-0800
TZNAME:PST
DTSTART:20261101T090000
END:STANDARD
END:VTIMEZONE
BEGIN:VEVENT
DTSTART;TZID=America/Los_Angeles:20250411T183000
DTEND;TZID=America/Los_Angeles:20250411T183000
DTSTAMP:20260421T185618
CREATED:20250329T045739Z
LAST-MODIFIED:20250329T045739Z
UID:10000096-1744396200-1744396200@westcoastnewark.com
SUMMARY:Blue - Blue I Belt Testing
DESCRIPTION:Full uniform\, Sparring Gear and Membership card.
URL:https://westcoastnewark.com/event/blue-blue-i-belt-testing-6/
CATEGORIES:Belt Testing
END:VEVENT
BEGIN:VEVENT
DTSTART;TZID=America/Los_Angeles:20250411T174500
DTEND;TZID=America/Los_Angeles:20250411T174500
DTSTAMP:20260421T185618
CREATED:20250329T045737Z
LAST-MODIFIED:20250329T045737Z
UID:10000095-1744393500-1744393500@westcoastnewark.com
SUMMARY:Green - Purple Belt Testing
DESCRIPTION:Full uniform\, Sparring Gear and Membership card.
URL:https://westcoastnewark.com/event/green-purple-belt-testing-6/
CATEGORIES:Belt Testing
END:VEVENT
BEGIN:VEVENT
DTSTART;TZID=America/Los_Angeles:20250411T170000
DTEND;TZID=America/Los_Angeles:20250411T170000
DTSTAMP:20260421T185618
CREATED:20250329T045737Z
LAST-MODIFIED:20250329T045737Z
UID:10000094-1744390800-1744390800@westcoastnewark.com
SUMMARY:White - Gold Belt Testing
DESCRIPTION:Full uniform\, Sparring Gear and Membership card.
URL:https://westcoastnewark.com/event/white-gold-belt-testing-5/
CATEGORIES:Belt Testing
END:VEVENT
BEGIN:VEVENT
DTSTART;TZID=America/Los_Angeles:20250404T183000
DTEND;TZID=America/Los_Angeles:20250404T183000
DTSTAMP:20260421T185618
CREATED:20250329T045737Z
LAST-MODIFIED:20250329T045737Z
UID:10000093-1743791400-1743791400@westcoastnewark.com
SUMMARY:Advanced Dragon Testing
DESCRIPTION:Full uniform\, Sparring Gear and Membership card.
URL:https://westcoastnewark.com/event/advanced-dragon-testing-5/
CATEGORIES:Belt Testing
END:VEVENT
BEGIN:VEVENT
DTSTART;TZID=America/Los_Angeles:20250404T174500
DTEND;TZID=America/Los_Angeles:20250404T174500
DTSTAMP:20260421T185618
CREATED:20250329T045737Z
LAST-MODIFIED:20250329T045737Z
UID:10000092-1743788700-1743788700@westcoastnewark.com
SUMMARY:Intermediate Dragon Testing
DESCRIPTION:Full uniform\, Sparring Gear and Membership card.
URL:https://westcoastnewark.com/event/intermediate-dragon-testing-5/
CATEGORIES:Belt Testing
END:VEVENT
BEGIN:VEVENT
DTSTART;TZID=America/Los_Angeles:20250404T170000
DTEND;TZID=America/Los_Angeles:20250404T170000
DTSTAMP:20260421T185618
CREATED:20250329T045736Z
LAST-MODIFIED:20250329T045736Z
UID:10000091-1743786000-1743786000@westcoastnewark.com
SUMMARY:Beginner Dragon Testing
DESCRIPTION:Full uniform\, Sparring Gear and Membership card.
URL:https://westcoastnewark.com/event/beginner-dragon-testing-5/
CATEGORIES:Belt Testing
END:VEVENT
BEGIN:VEVENT
DTSTART;TZID=America/Los_Angeles:20250329T111500
DTEND;TZID=America/Los_Angeles:20250329T111500
DTSTAMP:20260421T185618
CREATED:20250313T052235Z
LAST-MODIFIED:20250722T232901Z
UID:10000089-1743246900-1743246900@westcoastnewark.com
SUMMARY:Newark Tryouts for 1st Degree Spring Candidates
DESCRIPTION:Full uniform\, Sparring Gear and Membership card.
URL:https://westcoastnewark.com/event/newark-tryouts-for-1st-degree-spring-candidates/
CATEGORIES:Belt Testing
END:VEVENT
BEGIN:VEVENT
DTSTART;TZID=America/Los_Angeles:20250328T180000
DTEND;TZID=America/Los_Angeles:20250328T180000
DTSTAMP:20260421T185618
CREATED:20250313T052034Z
LAST-MODIFIED:20250329T050342Z
UID:10000085-1743184800-1743184800@westcoastnewark.com
SUMMARY:Red - Red I Test
DESCRIPTION:Full uniform\, Sparring Gear and Membership card.
URL:https://westcoastnewark.com/event/red-red-i-test-4/
CATEGORIES:Belt Testing
END:VEVENT
BEGIN:VEVENT
DTSTART;TZID=America/Los_Angeles:20250328T170000
DTEND;TZID=America/Los_Angeles:20250328T170000
DTSTAMP:20260421T185618
CREATED:20250313T052034Z
LAST-MODIFIED:20250329T050342Z
UID:10000084-1743181200-1743181200@westcoastnewark.com
SUMMARY:Red - Red I Pretest
DESCRIPTION:Full uniform\, Sparring Gear and Membership card.
URL:https://westcoastnewark.com/event/red-red-i-pretest-4/
CATEGORIES:Belt Testing
END:VEVENT
BEGIN:VEVENT
DTSTART;TZID=America/Los_Angeles:20250322T111500
DTEND;TZID=America/Los_Angeles:20250322T111500
DTSTAMP:20260421T185618
CREATED:20250329T050343Z
LAST-MODIFIED:20250329T050343Z
UID:10000105-1742642100-1742642100@westcoastnewark.com
SUMMARY:Spring Candidates - 2nd & 3rd Degree Candidate Prelim Testing
DESCRIPTION:Full uniform\, Sparring Gear and Membership card.
URL:https://westcoastnewark.com/event/spring-candidates-2nd-3rd-degree-candidate-prelim-testing/
CATEGORIES:Belt Testing
END:VEVENT
BEGIN:VEVENT
DTSTART;TZID=America/Los_Angeles:20250322T111500
DTEND;TZID=America/Los_Angeles:20250322T111500
DTSTAMP:20260421T185618
CREATED:20250313T052035Z
LAST-MODIFIED:20250313T052035Z
UID:10000088-1742642100-1742642100@westcoastnewark.com
SUMMARY:Spring Candidates - 2nd & 3rd Degree Candidate Prelim Test
DESCRIPTION:Full uniform\, Sparring Gear and Membership card.
URL:https://westcoastnewark.com/event/spring-candidates-2nd-3rd-degree-candidate-prelim-test/
CATEGORIES:Belt Testing
END:VEVENT
BEGIN:VEVENT
DTSTART;TZID=America/Los_Angeles:20250321T180000
DTEND;TZID=America/Los_Angeles:20250321T180000
DTSTAMP:20260421T185618
CREATED:20250313T051836Z
LAST-MODIFIED:20250329T050143Z
UID:10000083-1742580000-1742580000@westcoastnewark.com
SUMMARY:Brown - Brown I Test
DESCRIPTION:Full uniform\, Sparring Gear and Membership card.
URL:https://westcoastnewark.com/event/brown-brown-i-test-5/
CATEGORIES:Belt Testing
END:VEVENT
BEGIN:VEVENT
DTSTART;TZID=America/Los_Angeles:20250321T170000
DTEND;TZID=America/Los_Angeles:20250321T170000
DTSTAMP:20260421T185618
CREATED:20250313T051836Z
LAST-MODIFIED:20250329T050142Z
UID:10000082-1742576400-1742576400@westcoastnewark.com
SUMMARY:Brown - Brown I Belt Pretest
DESCRIPTION:Full uniform\, Sparring Gear and Membership card.
URL:https://westcoastnewark.com/event/brown-brown-i-belt-pretest-5/
CATEGORIES:Belt Testing
END:VEVENT
BEGIN:VEVENT
DTSTART;TZID=America/Los_Angeles:20250317T160000
DTEND;TZID=America/Los_Angeles:20250317T160000
DTSTAMP:20260421T185618
CREATED:20250329T050542Z
LAST-MODIFIED:20250624T052434Z
UID:10000106-1742227200-1742227200@westcoastnewark.com
SUMMARY:Board Breaking
DESCRIPTION:Optional in-class event. Boards may be preorderd or ordered at the front desk during register hours.
URL:https://westcoastnewark.com/event/board-breaking/
CATEGORIES:Board Breaking
END:VEVENT
BEGIN:VEVENT
DTSTART;TZID=America/Los_Angeles:20250317T160000
DTEND;TZID=America/Los_Angeles:20250317T160000
DTSTAMP:20260421T185618
CREATED:20250313T052236Z
LAST-MODIFIED:20250313T052236Z
UID:10000090-1742227200-1742227200@westcoastnewark.com
SUMMARY:Boark Breaking
DESCRIPTION:Optional in-class event. Boards may be preorderd or ordered at the front desk during register hours.
URL:https://westcoastnewark.com/event/boark-breaking/
CATEGORIES:Board Breaking
END:VEVENT
BEGIN:VEVENT
DTSTART;TZID=America/Los_Angeles:20250315T111500
DTEND;TZID=America/Los_Angeles:20250315T111500
DTSTAMP:20260421T185618
CREATED:20250329T050342Z
LAST-MODIFIED:20250329T050342Z
UID:10000104-1742037300-1742037300@westcoastnewark.com
SUMMARY:Fall Candidates - R/B (1st Degree Candidate) Prelim Testing
DESCRIPTION:Full uniform\, Sparring Gear and Membership card.
URL:https://westcoastnewark.com/event/fall-candidates-r-b-1st-degree-candidate-prelim-testing-2/
CATEGORIES:Belt Testing
END:VEVENT
BEGIN:VEVENT
DTSTART;TZID=America/Los_Angeles:20250315T111500
DTEND;TZID=America/Los_Angeles:20250315T111500
DTSTAMP:20260421T185618
CREATED:20250313T052035Z
LAST-MODIFIED:20250313T052035Z
UID:10000087-1742037300-1742037300@westcoastnewark.com
SUMMARY:Fall Candidates - R/B (1st Degree Candidate) Prelim Test
DESCRIPTION:Full uniform\, Sparring Gear and Membership card.
URL:https://westcoastnewark.com/event/fall-candidates-r-b-1st-degree-candidate-prelim-test/
CATEGORIES:Belt Testing
END:VEVENT
BEGIN:VEVENT
DTSTART;TZID=America/Los_Angeles:20250314T183000
DTEND;TZID=America/Los_Angeles:20250314T183000
DTSTAMP:20260421T185618
CREATED:20250313T051835Z
LAST-MODIFIED:20250329T050142Z
UID:10000081-1741977000-1741977000@westcoastnewark.com
SUMMARY:Blue - Blue I Belt Testing
DESCRIPTION:Full uniform\, Sparring Gear and Membership card.
URL:https://westcoastnewark.com/event/blue-blue-i-belt-testing-5/
CATEGORIES:Belt Testing
END:VEVENT
BEGIN:VEVENT
DTSTART;TZID=America/Los_Angeles:20250314T174500
DTEND;TZID=America/Los_Angeles:20250314T174500
DTSTAMP:20260421T185618
CREATED:20250313T051835Z
LAST-MODIFIED:20250329T050142Z
UID:10000080-1741974300-1741974300@westcoastnewark.com
SUMMARY:Green - Purple Belt Testing
DESCRIPTION:Full uniform\, Sparring Gear and Membership card.
URL:https://westcoastnewark.com/event/green-purple-belt-testing-5/
CATEGORIES:Belt Testing
END:VEVENT
BEGIN:VEVENT
DTSTART;TZID=America/Los_Angeles:20250314T170000
DTEND;TZID=America/Los_Angeles:20250314T170000
DTSTAMP:20260421T185618
CREATED:20250313T051834Z
LAST-MODIFIED:20250329T050141Z
UID:10000079-1741971600-1741971600@westcoastnewark.com
SUMMARY:White - Gold Belt Testing
DESCRIPTION:Full uniform\, Sparring Gear and Membership card.
URL:https://westcoastnewark.com/event/white-gold-belt-testing-4/
CATEGORIES:Belt Testing
END:VEVENT
BEGIN:VEVENT
DTSTART;TZID=America/Los_Angeles:20250308T111500
DTEND;TZID=America/Los_Angeles:20250308T111500
DTSTAMP:20260421T185618
CREATED:20250329T050342Z
LAST-MODIFIED:20250329T050342Z
UID:10000103-1741432500-1741432500@westcoastnewark.com
SUMMARY:Spring Candidates - R/B (1st Degree Candidate) Prelim Testing
DESCRIPTION:Full uniform\, Sparring Gear and Membership card.
URL:https://westcoastnewark.com/event/spring-candidates-r-b-1st-degree-candidate-prelim-testing/
CATEGORIES:Belt Testing
END:VEVENT
BEGIN:VEVENT
DTSTART;TZID=America/Los_Angeles:20250308T111500
DTEND;TZID=America/Los_Angeles:20250308T111500
DTSTAMP:20260421T185618
CREATED:20250313T052035Z
LAST-MODIFIED:20250313T052035Z
UID:10000086-1741432500-1741432500@westcoastnewark.com
SUMMARY:Spring Candidates - R/B (1st Degree Candidate) Prelim Test
DESCRIPTION:Full uniform\, Sparring Gear and Membership card.
URL:https://westcoastnewark.com/event/spring-candidates-r-b-1st-degree-candidate-prelim-test/
CATEGORIES:Belt Testing
END:VEVENT
BEGIN:VEVENT
DTSTART;TZID=America/Los_Angeles:20250307T183000
DTEND;TZID=America/Los_Angeles:20250307T183000
DTSTAMP:20260421T185618
CREATED:20250313T051633Z
LAST-MODIFIED:20250329T045943Z
UID:10000078-1741372200-1741372200@westcoastnewark.com
SUMMARY:Advanced Dragon Testing
DESCRIPTION:Full uniform\, Sparring Gear and Membership card.
URL:https://westcoastnewark.com/event/advanced-dragon-testing-4/
CATEGORIES:Belt Testing
END:VEVENT
BEGIN:VEVENT
DTSTART;TZID=America/Los_Angeles:20250307T174500
DTEND;TZID=America/Los_Angeles:20250307T174500
DTSTAMP:20260421T185618
CREATED:20250313T051633Z
LAST-MODIFIED:20250329T045942Z
UID:10000077-1741369500-1741369500@westcoastnewark.com
SUMMARY:Intermediate Dragon Testing
DESCRIPTION:Full uniform\, Sparring Gear and Membership card.
URL:https://westcoastnewark.com/event/intermediate-dragon-testing-4/
CATEGORIES:Belt Testing
END:VEVENT
BEGIN:VEVENT
DTSTART;TZID=America/Los_Angeles:20250307T170000
DTEND;TZID=America/Los_Angeles:20250307T170000
DTSTAMP:20260421T185618
CREATED:20250313T051632Z
LAST-MODIFIED:20250329T045942Z
UID:10000076-1741366800-1741366800@westcoastnewark.com
SUMMARY:Beginner Dragon Testing
DESCRIPTION:Full uniform\, Sparring Gear and Membership card.
URL:https://westcoastnewark.com/event/beginner-dragon-testing-4/
CATEGORIES:Belt Testing
END:VEVENT
BEGIN:VEVENT
DTSTART;TZID=America/Los_Angeles:20250228T180000
DTEND;TZID=America/Los_Angeles:20250228T180000
DTSTAMP:20260421T185618
CREATED:20250204T061654Z
LAST-MODIFIED:20250313T051430Z
UID:10000070-1740765600-1740765600@westcoastnewark.com
SUMMARY:Red - Red I Test
DESCRIPTION:Full uniform\, Sparring Gear and Membership card.
URL:https://westcoastnewark.com/event/red-red-i-test-3/
CATEGORIES:Belt Testing
END:VEVENT
BEGIN:VEVENT
DTSTART;TZID=America/Los_Angeles:20250228T170000
DTEND;TZID=America/Los_Angeles:20250228T170000
DTSTAMP:20260421T185618
CREATED:20250204T061654Z
LAST-MODIFIED:20250313T051430Z
UID:10000069-1740762000-1740762000@westcoastnewark.com
SUMMARY:Red - Red I Pretest
DESCRIPTION:Full uniform\, Sparring Gear and Membership card.
URL:https://westcoastnewark.com/event/red-red-i-pretest-3/
CATEGORIES:Belt Testing
END:VEVENT
BEGIN:VEVENT
DTSTART;TZID=America/Los_Angeles:20250221T180000
DTEND;TZID=America/Los_Angeles:20250221T180000
DTSTAMP:20260421T185618
CREATED:20250204T061152Z
LAST-MODIFIED:20250313T051430Z
UID:10000068-1740160800-1740160800@westcoastnewark.com
SUMMARY:Brown - Brown I Test
DESCRIPTION:Full uniform\, Sparring Gear and Membership card.
URL:https://westcoastnewark.com/event/brown-brown-i-test-4/
CATEGORIES:Belt Testing
END:VEVENT
BEGIN:VEVENT
DTSTART;TZID=America/Los_Angeles:20250221T170000
DTEND;TZID=America/Los_Angeles:20250221T170000
DTSTAMP:20260421T185618
CREATED:20250204T061151Z
LAST-MODIFIED:20250313T051430Z
UID:10000067-1740157200-1740157200@westcoastnewark.com
SUMMARY:Brown - Brown I Belt PreTest
DESCRIPTION:Full uniform\, Sparring Gear and Membership card.
URL:https://westcoastnewark.com/event/brown-brown-i-belt-pretest-4/
CATEGORIES:Belt Testing
END:VEVENT
BEGIN:VEVENT
DTSTART;VALUE=DATE:20250217
DTEND;VALUE=DATE:20250218
DTSTAMP:20260421T185618
CREATED:20241231T094511Z
LAST-MODIFIED:20251118T041014Z
UID:10000051-1739750400-1739836799@westcoastnewark.com
SUMMARY:Presidents Day
DESCRIPTION:
URL:https://westcoastnewark.com/event/presidents-day/
CATEGORIES:Holiday
END:VEVENT
END:VCALENDAR