BEGIN:VCALENDAR
VERSION:2.0
PRODID:-//WEST COAST WORLD MARTIAL ARTS NEWARK - ECPv6.15.20//NONSGML v1.0//EN
CALSCALE:GREGORIAN
METHOD:PUBLISH
X-WR-CALNAME:WEST COAST WORLD MARTIAL ARTS NEWARK
X-ORIGINAL-URL:https://westcoastnewark.com
X-WR-CALDESC:Events for WEST COAST WORLD MARTIAL ARTS NEWARK
REFRESH-INTERVAL;VALUE=DURATION:PT1H
X-Robots-Tag:noindex
X-PUBLISHED-TTL:PT1H
BEGIN:VTIMEZONE
TZID:America/Los_Angeles
BEGIN:DAYLIGHT
TZOFFSETFROM:-0800
TZOFFSETTO:-0700
TZNAME:PDT
DTSTART:20230312T100000
END:DAYLIGHT
BEGIN:STANDARD
TZOFFSETFROM:-0700
TZOFFSETTO:-0800
TZNAME:PST
DTSTART:20231105T090000
END:STANDARD
BEGIN:DAYLIGHT
TZOFFSETFROM:-0800
TZOFFSETTO:-0700
TZNAME:PDT
DTSTART:20240310T100000
END:DAYLIGHT
BEGIN:STANDARD
TZOFFSETFROM:-0700
TZOFFSETTO:-0800
TZNAME:PST
DTSTART:20241103T090000
END:STANDARD
BEGIN:DAYLIGHT
TZOFFSETFROM:-0800
TZOFFSETTO:-0700
TZNAME:PDT
DTSTART:20250309T100000
END:DAYLIGHT
BEGIN:STANDARD
TZOFFSETFROM:-0700
TZOFFSETTO:-0800
TZNAME:PST
DTSTART:20251102T090000
END:STANDARD
BEGIN:DAYLIGHT
TZOFFSETFROM:-0800
TZOFFSETTO:-0700
TZNAME:PDT
DTSTART:20260308T100000
END:DAYLIGHT
BEGIN:STANDARD
TZOFFSETFROM:-0700
TZOFFSETTO:-0800
TZNAME:PST
DTSTART:20261101T090000
END:STANDARD
END:VTIMEZONE
BEGIN:VTIMEZONE
TZID:America/Halifax
BEGIN:DAYLIGHT
TZOFFSETFROM:-0400
TZOFFSETTO:-0300
TZNAME:ADT
DTSTART:20230312T060000
END:DAYLIGHT
BEGIN:STANDARD
TZOFFSETFROM:-0300
TZOFFSETTO:-0400
TZNAME:AST
DTSTART:20231105T050000
END:STANDARD
BEGIN:DAYLIGHT
TZOFFSETFROM:-0400
TZOFFSETTO:-0300
TZNAME:ADT
DTSTART:20240310T060000
END:DAYLIGHT
BEGIN:STANDARD
TZOFFSETFROM:-0300
TZOFFSETTO:-0400
TZNAME:AST
DTSTART:20241103T050000
END:STANDARD
BEGIN:DAYLIGHT
TZOFFSETFROM:-0400
TZOFFSETTO:-0300
TZNAME:ADT
DTSTART:20250309T060000
END:DAYLIGHT
BEGIN:STANDARD
TZOFFSETFROM:-0300
TZOFFSETTO:-0400
TZNAME:AST
DTSTART:20251102T050000
END:STANDARD
END:VTIMEZONE
BEGIN:VEVENT
DTSTART;TZID=America/Los_Angeles:20241213T170000
DTEND;TZID=America/Los_Angeles:20241213T170000
DTSTAMP:20260422T153253
CREATED:20241116T231526Z
LAST-MODIFIED:20241128T044749Z
UID:10000004-1734109200-1734109200@westcoastnewark.com
SUMMARY:White - Gold Belt Testing
DESCRIPTION:Full uniform\, Sparring Gear and Membership card.
URL:https://westcoastnewark.com/event/white-gold-belt-testing/
CATEGORIES:Belt Testing
END:VEVENT
BEGIN:VEVENT
DTSTART;TZID=America/Halifax:20241213T170000
DTEND;TZID=America/Halifax:20241213T170000
DTSTAMP:20260422T153253
CREATED:20241116T231526Z
LAST-MODIFIED:20241119T091146Z
UID:10000005-1734109200-1734109200@westcoastnewark.com
SUMMARY:Green - Purple Belt Testing
DESCRIPTION:Full uniform\, Sparring Gear and Membership card.
URL:https://westcoastnewark.com/event/green-purple-belt-testing/
CATEGORIES:Belt Testing
END:VEVENT
BEGIN:VEVENT
DTSTART;TZID=America/Los_Angeles:20241213T174500
DTEND;TZID=America/Los_Angeles:20241213T174500
DTSTAMP:20260422T153253
CREATED:20241128T043341Z
LAST-MODIFIED:20241128T044749Z
UID:10000026-1734111900-1734111900@westcoastnewark.com
SUMMARY:Green - Purple Belt Testing
DESCRIPTION:Full uniform\, Sparring Gear and Membership card.
URL:https://westcoastnewark.com/event/green-purple-belt-testing-2/
CATEGORIES:Belt Testing
END:VEVENT
BEGIN:VEVENT
DTSTART;TZID=America/Los_Angeles:20241213T183000
DTEND;TZID=America/Los_Angeles:20241213T183000
DTSTAMP:20260422T153253
CREATED:20241128T043344Z
LAST-MODIFIED:20241128T044751Z
UID:10000027-1734114600-1734114600@westcoastnewark.com
SUMMARY:Blue - Blue I Belt Testing
DESCRIPTION:Full uniform\, Sparring Gear and Membership card.
URL:https://westcoastnewark.com/event/blue-blue-i-belt-testing-2/
CATEGORIES:Belt Testing
END:VEVENT
BEGIN:VEVENT
DTSTART;TZID=America/Los_Angeles:20241214T111500
DTEND;TZID=America/Los_Angeles:20241214T111500
DTSTAMP:20260422T153253
CREATED:20241116T231540Z
LAST-MODIFIED:20241128T044751Z
UID:10000010-1734174900-1734174900@westcoastnewark.com
SUMMARY:Red - Red I Test
DESCRIPTION:Full uniform\, Sparring Gear and Membership card.
URL:https://westcoastnewark.com/event/red-red-i-test/
CATEGORIES:Belt Testing
END:VEVENT
BEGIN:VEVENT
DTSTART;TZID=America/Los_Angeles:20241220T170000
DTEND;TZID=America/Los_Angeles:20241220T170000
DTSTAMP:20260422T153253
CREATED:20241128T043344Z
LAST-MODIFIED:20241128T044751Z
UID:10000028-1734714000-1734714000@westcoastnewark.com
SUMMARY:Brown - Brown I Belt PreTest
DESCRIPTION:Full uniform\, Sparring Gear and Membership card.
URL:https://westcoastnewark.com/event/brown-brown-i-belt-pretest-2/
CATEGORIES:Belt Testing
END:VEVENT
BEGIN:VEVENT
DTSTART;TZID=America/Los_Angeles:20241220T180000
DTEND;TZID=America/Los_Angeles:20241220T180000
DTSTAMP:20260422T153253
CREATED:20241128T043345Z
LAST-MODIFIED:20241128T044751Z
UID:10000029-1734717600-1734717600@westcoastnewark.com
SUMMARY:Brown - Brown I Test
DESCRIPTION:Full uniform\, Sparring Gear and Membership card.
URL:https://westcoastnewark.com/event/brown-brown-i-test-2/
CATEGORIES:Belt Testing
END:VEVENT
BEGIN:VEVENT
DTSTART;VALUE=DATE:20241224
DTEND;VALUE=DATE:20241225
DTSTAMP:20260422T153253
CREATED:20241119T090508Z
LAST-MODIFIED:20241128T045153Z
UID:10000021-1734998400-1735084799@westcoastnewark.com
SUMMARY:Christmas Eve
DESCRIPTION:
URL:https://westcoastnewark.com/event/christmas-eve/
CATEGORIES:Holiday
END:VEVENT
BEGIN:VEVENT
DTSTART;VALUE=DATE:20241224
DTEND;VALUE=DATE:20241225
DTSTAMP:20260422T153253
CREATED:20241117T013722Z
LAST-MODIFIED:20241119T051413Z
UID:10000013-1734998400-1735084799@westcoastnewark.com
SUMMARY:Christmas Holiday
DESCRIPTION:Celebrate the season with family. Give to others. Be grateful  for the blessings of the past year.
URL:https://westcoastnewark.com/event/christmas-holiday/
CATEGORIES:Holiday
END:VEVENT
BEGIN:VEVENT
DTSTART;VALUE=DATE:20241225
DTEND;VALUE=DATE:20241226
DTSTAMP:20260422T153253
CREATED:20241119T090509Z
LAST-MODIFIED:20241128T045153Z
UID:10000022-1735084800-1735171199@westcoastnewark.com
SUMMARY:Christmas Holiday
DESCRIPTION:Celebrate the season with family. Give to others. Be grateful  for the blessings of the past year.
URL:https://westcoastnewark.com/event/christmas-holiday-2/
CATEGORIES:Holiday
END:VEVENT
BEGIN:VEVENT
DTSTART;VALUE=DATE:20241226
DTEND;VALUE=DATE:20241227
DTSTAMP:20260422T153253
CREATED:20241128T045153Z
LAST-MODIFIED:20241128T045153Z
UID:10000030-1735171200-1735257599@westcoastnewark.com
SUMMARY:Day after Christmas
DESCRIPTION:
URL:https://westcoastnewark.com/event/day-after-christmas/
CATEGORIES:Holiday
END:VEVENT
BEGIN:VEVENT
DTSTART;VALUE=DATE:20241231
DTEND;VALUE=DATE:20250101
DTSTAMP:20260422T153253
CREATED:20241119T090708Z
LAST-MODIFIED:20241128T045154Z
UID:10000023-1735603200-1735689599@westcoastnewark.com
SUMMARY:New Years Eve
DESCRIPTION:Out with the old and in with the new. Start the new years strong with some training on your own.
URL:https://westcoastnewark.com/event/new-years-eve/
CATEGORIES:Holiday
END:VEVENT
BEGIN:VEVENT
DTSTART;VALUE=DATE:20241231
DTEND;VALUE=DATE:20250101
DTSTAMP:20260422T153253
CREATED:20241117T013723Z
LAST-MODIFIED:20241119T051413Z
UID:10000014-1735603200-1735689599@westcoastnewark.com
SUMMARY:New Year Holiday
DESCRIPTION:Happy New Year
URL:https://westcoastnewark.com/event/new-year-holiday/
CATEGORIES:Holiday
END:VEVENT
BEGIN:VEVENT
DTSTART;VALUE=DATE:20250101
DTEND;VALUE=DATE:20250102
DTSTAMP:20260422T153253
CREATED:20241119T090708Z
LAST-MODIFIED:20241128T045352Z
UID:10000024-1735689600-1735775999@westcoastnewark.com
SUMMARY:New Year Holiday
DESCRIPTION:Happy New Year
URL:https://westcoastnewark.com/event/new-year-holiday-2/
CATEGORIES:Holiday
END:VEVENT
BEGIN:VEVENT
DTSTART;TZID=America/Los_Angeles:20250104T070000
DTEND;TZID=America/Los_Angeles:20250104T070000
DTSTAMP:20260422T153253
CREATED:20241117T013723Z
LAST-MODIFIED:20251118T040812Z
UID:10000015-1735974000-1735974000@westcoastnewark.com
SUMMARY:New Year Workout
DESCRIPTION:The saga continues – start the new year STRONG!
URL:https://westcoastnewark.com/event/new-year-workout/
CATEGORIES:Workout
END:VEVENT
BEGIN:VEVENT
DTSTART;TZID=America/Los_Angeles:20250104T123000
DTEND;TZID=America/Los_Angeles:20250104T123000
DTSTAMP:20260422T153253
CREATED:20250104T064421Z
LAST-MODIFIED:20250104T064421Z
UID:10000060-1735993800-1735993800@westcoastnewark.com
SUMMARY:New Year Workout
DESCRIPTION:The saga continues – start the new year STRONG!
URL:https://westcoastnewark.com/event/new-year-workout-2/
CATEGORIES:Workout
END:VEVENT
BEGIN:VEVENT
DTSTART;TZID=America/Los_Angeles:20250110T170000
DTEND;TZID=America/Los_Angeles:20250110T170000
DTSTAMP:20260422T153253
CREATED:20241231T093701Z
LAST-MODIFIED:20250204T060744Z
UID:10000031-1736528400-1736528400@westcoastnewark.com
SUMMARY:Beginner Dragon Testing
DESCRIPTION:Full uniform\, Sparring Gear and Membership card.
URL:https://westcoastnewark.com/event/beginner-dragon-testing-2/
CATEGORIES:Belt Testing
END:VEVENT
BEGIN:VEVENT
DTSTART;TZID=America/Los_Angeles:20250110T174500
DTEND;TZID=America/Los_Angeles:20250110T174500
DTSTAMP:20260422T153253
CREATED:20241231T093701Z
LAST-MODIFIED:20250204T060744Z
UID:10000032-1736531100-1736531100@westcoastnewark.com
SUMMARY:Intermediate Dragon Testing
DESCRIPTION:Full uniform\, Sparring Gear and Membership card.
URL:https://westcoastnewark.com/event/intermediate-dragon-testing-2/
CATEGORIES:Belt Testing
END:VEVENT
BEGIN:VEVENT
DTSTART;TZID=America/Los_Angeles:20250110T183000
DTEND;TZID=America/Los_Angeles:20250110T183000
DTSTAMP:20260422T153253
CREATED:20241231T093702Z
LAST-MODIFIED:20250204T060744Z
UID:10000033-1736533800-1736533800@westcoastnewark.com
SUMMARY:Advanced Dragon Testing
DESCRIPTION:Full uniform\, Sparring Gear and Membership card.
URL:https://westcoastnewark.com/event/advanced-dragon-testing-2/
CATEGORIES:Belt Testing
END:VEVENT
BEGIN:VEVENT
DTSTART;TZID=America/Los_Angeles:20250111T111500
DTEND;TZID=America/Los_Angeles:20250111T111500
DTSTAMP:20260422T153253
CREATED:20250104T064020Z
LAST-MODIFIED:20250204T060949Z
UID:10000059-1736594100-1736594100@westcoastnewark.com
SUMMARY:1st Degree Candidate Prelim Test
DESCRIPTION:Full uniform\, Sparring Gear and Membership card.
URL:https://westcoastnewark.com/event/1st-degree-candidate-prelim-test-2/
CATEGORIES:Belt Testing
END:VEVENT
BEGIN:VEVENT
DTSTART;TZID=America/Los_Angeles:20250117T170000
DTEND;TZID=America/Los_Angeles:20250117T170000
DTSTAMP:20260422T153253
CREATED:20241231T093702Z
LAST-MODIFIED:20250204T060745Z
UID:10000034-1737133200-1737133200@westcoastnewark.com
SUMMARY:White - Gold Belt Testing
DESCRIPTION:Full uniform\, Sparring Gear and Membership card.
URL:https://westcoastnewark.com/event/white-gold-belt-testing-2/
CATEGORIES:Belt Testing
END:VEVENT
BEGIN:VEVENT
DTSTART;TZID=America/Los_Angeles:20250117T174500
DTEND;TZID=America/Los_Angeles:20250117T174500
DTSTAMP:20260422T153253
CREATED:20241231T093702Z
LAST-MODIFIED:20250204T060745Z
UID:10000035-1737135900-1737135900@westcoastnewark.com
SUMMARY:Green - Purple Belt Testing
DESCRIPTION:Full uniform\, Sparring Gear and Membership card.
URL:https://westcoastnewark.com/event/green-purple-belt-testing-3/
CATEGORIES:Belt Testing
END:VEVENT
BEGIN:VEVENT
DTSTART;TZID=America/Los_Angeles:20250117T183000
DTEND;TZID=America/Los_Angeles:20250117T183000
DTSTAMP:20260422T153253
CREATED:20241231T093705Z
LAST-MODIFIED:20250204T060750Z
UID:10000036-1737138600-1737138600@westcoastnewark.com
SUMMARY:Blue - Blue I Belt Testing
DESCRIPTION:Full uniform\, Sparring Gear and Membership card.
URL:https://westcoastnewark.com/event/blue-blue-i-belt-testing-3/
CATEGORIES:Belt Testing
END:VEVENT
BEGIN:VEVENT
DTSTART;TZID=America/Los_Angeles:20250118T111500
DTEND;TZID=America/Los_Angeles:20250118T111500
DTSTAMP:20260422T153253
CREATED:20241231T093908Z
LAST-MODIFIED:20241231T093908Z
UID:10000041-1737198900-1737198900@westcoastnewark.com
SUMMARY:1st Degree Candidate Prelim Test
DESCRIPTION:Full uniform\, Sparring Gear and Membership card.
URL:https://westcoastnewark.com/event/1st-degree-candidate-prelim-test/
CATEGORIES:Belt Testing
END:VEVENT
BEGIN:VEVENT
DTSTART;VALUE=DATE:20250120
DTEND;VALUE=DATE:20250121
DTSTAMP:20260422T153253
CREATED:20241231T094311Z
LAST-MODIFIED:20251118T041013Z
UID:10000050-1737331200-1737417599@westcoastnewark.com
SUMMARY:Martin Luther King Jr. Day
DESCRIPTION:
URL:https://westcoastnewark.com/event/martin-luther-king-jr-day/
CATEGORIES:Holiday
END:VEVENT
BEGIN:VEVENT
DTSTART;TZID=America/Los_Angeles:20250124T170000
DTEND;TZID=America/Los_Angeles:20250124T170000
DTSTAMP:20260422T153253
CREATED:20241231T093706Z
LAST-MODIFIED:20250204T060750Z
UID:10000037-1737738000-1737738000@westcoastnewark.com
SUMMARY:Brown - Brown I Belt PreTest
DESCRIPTION:Full uniform\, Sparring Gear and Membership card.
URL:https://westcoastnewark.com/event/brown-brown-i-belt-pretest-3/
CATEGORIES:Belt Testing
END:VEVENT
BEGIN:VEVENT
DTSTART;TZID=America/Los_Angeles:20250124T180000
DTEND;TZID=America/Los_Angeles:20250124T180000
DTSTAMP:20260422T153253
CREATED:20241231T093706Z
LAST-MODIFIED:20250204T060751Z
UID:10000038-1737741600-1737741600@westcoastnewark.com
SUMMARY:Brown - Brown I Test
DESCRIPTION:Full uniform\, Sparring Gear and Membership card.
URL:https://westcoastnewark.com/event/brown-brown-i-test-3/
CATEGORIES:Belt Testing
END:VEVENT
BEGIN:VEVENT
DTSTART;TZID=America/Los_Angeles:20250125T111500
DTEND;TZID=America/Los_Angeles:20250125T111500
DTSTAMP:20260422T153253
CREATED:20241231T093908Z
LAST-MODIFIED:20250204T060950Z
UID:10000042-1737803700-1737803700@westcoastnewark.com
SUMMARY:2nd & 3rd Degree Candidate Prelim Test
DESCRIPTION:Full uniform\, Sparring Gear and Membership card.
URL:https://westcoastnewark.com/event/2nd-3rd-degree-candidate-prelim-test/
CATEGORIES:Belt Testing
END:VEVENT
BEGIN:VEVENT
DTSTART;TZID=America/Los_Angeles:20250131T170000
DTEND;TZID=America/Los_Angeles:20250131T170000
DTSTAMP:20260422T153253
CREATED:20241231T093706Z
LAST-MODIFIED:20250204T060751Z
UID:10000039-1738342800-1738342800@westcoastnewark.com
SUMMARY:Red - Red I Pretest
DESCRIPTION:Full uniform\, Sparring Gear and Membership card.
URL:https://westcoastnewark.com/event/red-red-i-pretest-2/
CATEGORIES:Belt Testing
END:VEVENT
BEGIN:VEVENT
DTSTART;TZID=America/Los_Angeles:20250131T180000
DTEND;TZID=America/Los_Angeles:20250131T180000
DTSTAMP:20260422T153253
CREATED:20241231T093707Z
LAST-MODIFIED:20250204T060751Z
UID:10000040-1738346400-1738346400@westcoastnewark.com
SUMMARY:Red - Red I Test
DESCRIPTION:Full uniform\, Sparring Gear and Membership card.
URL:https://westcoastnewark.com/event/red-red-i-test-2/
CATEGORIES:Belt Testing
END:VEVENT
END:VCALENDAR