BEGIN:VCALENDAR
VERSION:2.0
PRODID:-//WEST COAST WORLD MARTIAL ARTS NEWARK - ECPv6.15.20//NONSGML v1.0//EN
CALSCALE:GREGORIAN
METHOD:PUBLISH
X-WR-CALNAME:WEST COAST WORLD MARTIAL ARTS NEWARK
X-ORIGINAL-URL:https://westcoastnewark.com
X-WR-CALDESC:Events for WEST COAST WORLD MARTIAL ARTS NEWARK
REFRESH-INTERVAL;VALUE=DURATION:PT1H
X-Robots-Tag:noindex
X-PUBLISHED-TTL:PT1H
BEGIN:VTIMEZONE
TZID:America/Los_Angeles
BEGIN:DAYLIGHT
TZOFFSETFROM:-0800
TZOFFSETTO:-0700
TZNAME:PDT
DTSTART:20240310T100000
END:DAYLIGHT
BEGIN:STANDARD
TZOFFSETFROM:-0700
TZOFFSETTO:-0800
TZNAME:PST
DTSTART:20241103T090000
END:STANDARD
BEGIN:DAYLIGHT
TZOFFSETFROM:-0800
TZOFFSETTO:-0700
TZNAME:PDT
DTSTART:20250309T100000
END:DAYLIGHT
BEGIN:STANDARD
TZOFFSETFROM:-0700
TZOFFSETTO:-0800
TZNAME:PST
DTSTART:20251102T090000
END:STANDARD
BEGIN:DAYLIGHT
TZOFFSETFROM:-0800
TZOFFSETTO:-0700
TZNAME:PDT
DTSTART:20260308T100000
END:DAYLIGHT
BEGIN:STANDARD
TZOFFSETFROM:-0700
TZOFFSETTO:-0800
TZNAME:PST
DTSTART:20261101T090000
END:STANDARD
BEGIN:DAYLIGHT
TZOFFSETFROM:-0800
TZOFFSETTO:-0700
TZNAME:PDT
DTSTART:20270314T100000
END:DAYLIGHT
BEGIN:STANDARD
TZOFFSETFROM:-0700
TZOFFSETTO:-0800
TZNAME:PST
DTSTART:20271107T090000
END:STANDARD
BEGIN:DAYLIGHT
TZOFFSETFROM:-0800
TZOFFSETTO:-0700
TZNAME:PDT
DTSTART:20280312T100000
END:DAYLIGHT
BEGIN:STANDARD
TZOFFSETFROM:-0700
TZOFFSETTO:-0800
TZNAME:PST
DTSTART:20281105T090000
END:STANDARD
BEGIN:DAYLIGHT
TZOFFSETFROM:-0800
TZOFFSETTO:-0700
TZNAME:PDT
DTSTART:20290311T100000
END:DAYLIGHT
BEGIN:STANDARD
TZOFFSETFROM:-0700
TZOFFSETTO:-0800
TZNAME:PST
DTSTART:20291104T090000
END:STANDARD
END:VTIMEZONE
BEGIN:VEVENT
DTSTART;VALUE=DATE:20251006
DTEND;VALUE=DATE:20251007
DTSTAMP:20260422T150124
CREATED:20250329T053117Z
LAST-MODIFIED:20251118T045059Z
UID:10000111-1759708800-1759795199@westcoastnewark.com
SUMMARY:Fall Black Belt Test Fees Due
DESCRIPTION:
URL:https://westcoastnewark.com/event/fall-black-belt-test-fees-due/
CATEGORIES:Deadline
END:VEVENT
BEGIN:VEVENT
DTSTART;TZID=America/Los_Angeles:20251007T163000
DTEND;TZID=America/Los_Angeles:20251007T163000
DTSTAMP:20260422T150124
CREATED:20250329T053118Z
LAST-MODIFIED:20251118T045059Z
UID:10000112-1759854600-1759854600@westcoastnewark.com
SUMMARY:Association Tryouts
DESCRIPTION:
URL:https://westcoastnewark.com/event/association-tryouts/
CATEGORIES:Workout
END:VEVENT
BEGIN:VEVENT
DTSTART;TZID=America/Los_Angeles:20251013T000000
DTEND;TZID=America/Los_Angeles:20251013T235959
DTSTAMP:20260422T150124
CREATED:20241231T094713Z
LAST-MODIFIED:20250727T163010Z
UID:10000057-1760313600-1760399999@westcoastnewark.com
SUMMARY:Columbus Day/Indigenous People's Day
DESCRIPTION:
URL:https://westcoastnewark.com/event/columbus-day-indigenous-peoples-day/
CATEGORIES:Holiday
END:VEVENT
BEGIN:VEVENT
DTSTART;TZID=America/Los_Angeles:20251016T163000
DTEND;TZID=America/Los_Angeles:20251016T163000
DTSTAMP:20260422T150124
CREATED:20250329T053317Z
LAST-MODIFIED:20251118T045059Z
UID:10000113-1760632200-1760632200@westcoastnewark.com
SUMMARY:2nd Degree and above Phase I testing
DESCRIPTION:
URL:https://westcoastnewark.com/event/2nd-degree-and-above-phase-i-testing/
CATEGORIES:Belt Testing
END:VEVENT
BEGIN:VEVENT
DTSTART;TZID=America/Los_Angeles:20251018T163000
DTEND;TZID=America/Los_Angeles:20251018T163000
DTSTAMP:20260422T150124
CREATED:20250329T053317Z
LAST-MODIFIED:20251118T045115Z
UID:10000114-1760805000-1760805000@westcoastnewark.com
SUMMARY:1st Degree Phase I Testing
DESCRIPTION:
URL:https://westcoastnewark.com/event/1st-degree-phase-i-testing/
CATEGORIES:Belt Testing
END:VEVENT
BEGIN:VEVENT
DTSTART;TZID=America/Los_Angeles:20251024T163000
DTEND;TZID=America/Los_Angeles:20251024T163000
DTSTAMP:20260422T150124
CREATED:20250329T053318Z
LAST-MODIFIED:20251118T045115Z
UID:10000115-1761323400-1761323400@westcoastnewark.com
SUMMARY:Night of Integration
DESCRIPTION:
URL:https://westcoastnewark.com/event/night-of-integration/
CATEGORIES:Belt Testing
END:VEVENT
BEGIN:VEVENT
DTSTART;TZID=America/Los_Angeles:20251025T163000
DTEND;TZID=America/Los_Angeles:20251025T163000
DTSTAMP:20260422T150124
CREATED:20250329T053518Z
LAST-MODIFIED:20251118T045115Z
UID:10000116-1761409800-1761409800@westcoastnewark.com
SUMMARY:Fall 2025 Black Belt Test
DESCRIPTION:
URL:https://westcoastnewark.com/event/fall-2025-black-belt-test/
CATEGORIES:Belt Testing
END:VEVENT
BEGIN:VEVENT
DTSTART;VALUE=DATE:20251111
DTEND;VALUE=DATE:20251112
DTSTAMP:20260422T150124
CREATED:20250204T062655Z
LAST-MODIFIED:20251118T045030Z
UID:10000075-1762819200-1762905599@westcoastnewark.com
SUMMARY:Veteran's Day
DESCRIPTION:
URL:https://westcoastnewark.com/event/veterans-day-2/
CATEGORIES:Holiday
END:VEVENT
BEGIN:VEVENT
DTSTART;VALUE=DATE:20251122
DTEND;VALUE=DATE:20251123
DTSTAMP:20260422T150124
CREATED:20250329T053519Z
LAST-MODIFIED:20250329T053519Z
UID:10000117-1763769600-1763855999@westcoastnewark.com
SUMMARY:Graduation/Tournament
DESCRIPTION:
URL:https://westcoastnewark.com/event/graduation-tournament/
CATEGORIES:Tournament
END:VEVENT
BEGIN:VEVENT
DTSTART;VALUE=DATE:20251127
DTEND;VALUE=DATE:20251128
DTSTAMP:20260422T150124
CREATED:20241231T093909Z
LAST-MODIFIED:20251118T040611Z
UID:10000043-1764201600-1764287999@westcoastnewark.com
SUMMARY:Thanksgiving Holiday
DESCRIPTION:Thanksgtiving Holiday – for all of our blessings.
URL:https://westcoastnewark.com/event/thanksgiving-holiday-2/
CATEGORIES:Holiday
END:VEVENT
BEGIN:VEVENT
DTSTART;VALUE=DATE:20251128
DTEND;VALUE=DATE:20251129
DTSTAMP:20260422T150124
CREATED:20241231T094109Z
LAST-MODIFIED:20251118T040611Z
UID:10000044-1764288000-1764374399@westcoastnewark.com
SUMMARY:Thanksgiving/Black Friday
DESCRIPTION:Thanksgtiving Holiday – for all of our blessings.
URL:https://westcoastnewark.com/event/thanksgiving-black-friday-2/
CATEGORIES:Holiday
END:VEVENT
BEGIN:VEVENT
DTSTART;VALUE=DATE:20251129
DTEND;VALUE=DATE:20251130
DTSTAMP:20260422T150124
CREATED:20241231T094109Z
LAST-MODIFIED:20251118T040611Z
UID:10000045-1764374400-1764460799@westcoastnewark.com
SUMMARY:Thanksgiving  Weekend
DESCRIPTION:Thanksgtiving Holiday – for all of our blessings.
URL:https://westcoastnewark.com/event/thanksgiving-weekend-2/
CATEGORIES:Holiday
END:VEVENT
BEGIN:VEVENT
DTSTART;VALUE=DATE:20251224
DTEND;VALUE=DATE:20251225
DTSTAMP:20260422T150124
CREATED:20241231T094110Z
LAST-MODIFIED:20251118T040812Z
UID:10000046-1766534400-1766620799@westcoastnewark.com
SUMMARY:Christmas Eve
DESCRIPTION:
URL:https://westcoastnewark.com/event/christmas-eve-2/
CATEGORIES:Holiday
END:VEVENT
BEGIN:VEVENT
DTSTART;VALUE=DATE:20251225
DTEND;VALUE=DATE:20251226
DTSTAMP:20260422T150124
CREATED:20241231T094110Z
LAST-MODIFIED:20251118T040812Z
UID:10000047-1766620800-1766707199@westcoastnewark.com
SUMMARY:Christmas Holiday
DESCRIPTION:Celebrate the season with family. Give to others. Be grateful  for the blessings of the past year.
URL:https://westcoastnewark.com/event/christmas-holiday-3/
CATEGORIES:Holiday
END:VEVENT
BEGIN:VEVENT
DTSTART;VALUE=DATE:20251231
DTEND;VALUE=DATE:20260101
DTSTAMP:20260422T150124
CREATED:20241231T094310Z
LAST-MODIFIED:20251118T040812Z
UID:10000048-1767139200-1767225599@westcoastnewark.com
SUMMARY:New Years Eve
DESCRIPTION:Out with the old and in with the new. Start the new years strong with some training on your own.
URL:https://westcoastnewark.com/event/new-years-eve-2/
CATEGORIES:Holiday
END:VEVENT
BEGIN:VEVENT
DTSTART;VALUE=DATE:20260101
DTEND;VALUE=DATE:20260102
DTSTAMP:20260422T150124
CREATED:20241231T094311Z
LAST-MODIFIED:20251118T040812Z
UID:10000049-1767225600-1767311999@westcoastnewark.com
SUMMARY:New Year Holiday
DESCRIPTION:Happy New Year
URL:https://westcoastnewark.com/event/new-year-holiday-3/
CATEGORIES:Holiday
END:VEVENT
BEGIN:VEVENT
DTSTART;VALUE=DATE:20281111
DTEND;VALUE=DATE:20281112
DTSTAMP:20260422T150124
CREATED:20241231T094713Z
LAST-MODIFIED:20250724T143511Z
UID:10000058-1857513600-1857599999@westcoastnewark.com
SUMMARY:Veteran's Day
DESCRIPTION:
URL:https://westcoastnewark.com/event/veterans-day/
CATEGORIES:Holiday
END:VEVENT
END:VCALENDAR