BEGIN:VCALENDAR
VERSION:2.0
PRODID:-//WEST COAST WORLD MARTIAL ARTS NEWARK - ECPv6.15.20//NONSGML v1.0//EN
CALSCALE:GREGORIAN
METHOD:PUBLISH
X-WR-CALNAME:WEST COAST WORLD MARTIAL ARTS NEWARK
X-ORIGINAL-URL:https://westcoastnewark.com
X-WR-CALDESC:Events for WEST COAST WORLD MARTIAL ARTS NEWARK
REFRESH-INTERVAL;VALUE=DURATION:PT1H
X-Robots-Tag:noindex
X-PUBLISHED-TTL:PT1H
BEGIN:VTIMEZONE
TZID:America/Los_Angeles
BEGIN:DAYLIGHT
TZOFFSETFROM:-0800
TZOFFSETTO:-0700
TZNAME:PDT
DTSTART:20230312T100000
END:DAYLIGHT
BEGIN:STANDARD
TZOFFSETFROM:-0700
TZOFFSETTO:-0800
TZNAME:PST
DTSTART:20231105T090000
END:STANDARD
BEGIN:DAYLIGHT
TZOFFSETFROM:-0800
TZOFFSETTO:-0700
TZNAME:PDT
DTSTART:20240310T100000
END:DAYLIGHT
BEGIN:STANDARD
TZOFFSETFROM:-0700
TZOFFSETTO:-0800
TZNAME:PST
DTSTART:20241103T090000
END:STANDARD
BEGIN:DAYLIGHT
TZOFFSETFROM:-0800
TZOFFSETTO:-0700
TZNAME:PDT
DTSTART:20250309T100000
END:DAYLIGHT
BEGIN:STANDARD
TZOFFSETFROM:-0700
TZOFFSETTO:-0800
TZNAME:PST
DTSTART:20251102T090000
END:STANDARD
END:VTIMEZONE
BEGIN:VTIMEZONE
TZID:America/Halifax
BEGIN:DAYLIGHT
TZOFFSETFROM:-0400
TZOFFSETTO:-0300
TZNAME:ADT
DTSTART:20230312T060000
END:DAYLIGHT
BEGIN:STANDARD
TZOFFSETFROM:-0300
TZOFFSETTO:-0400
TZNAME:AST
DTSTART:20231105T050000
END:STANDARD
BEGIN:DAYLIGHT
TZOFFSETFROM:-0400
TZOFFSETTO:-0300
TZNAME:ADT
DTSTART:20240310T060000
END:DAYLIGHT
BEGIN:STANDARD
TZOFFSETFROM:-0300
TZOFFSETTO:-0400
TZNAME:AST
DTSTART:20241103T050000
END:STANDARD
BEGIN:DAYLIGHT
TZOFFSETFROM:-0400
TZOFFSETTO:-0300
TZNAME:ADT
DTSTART:20250309T060000
END:DAYLIGHT
BEGIN:STANDARD
TZOFFSETFROM:-0300
TZOFFSETTO:-0400
TZNAME:AST
DTSTART:20251102T050000
END:STANDARD
END:VTIMEZONE
BEGIN:VEVENT
DTSTART;TZID=America/Los_Angeles:20241207T111500
DTEND;TZID=America/Los_Angeles:20241207T111500
DTSTAMP:20260422T160735
CREATED:20241116T231531Z
LAST-MODIFIED:20241128T044751Z
UID:10000009-1733570100-1733570100@westcoastnewark.com
SUMMARY:Red - Red I Pretest
DESCRIPTION:Full uniform\, Sparring Gear and Membership card.
URL:https://westcoastnewark.com/event/red-red-i-pretest/
CATEGORIES:Belt Testing
END:VEVENT
BEGIN:VEVENT
DTSTART;TZID=America/Halifax:20241206T200000
DTEND;TZID=America/Halifax:20241206T200000
DTSTAMP:20260422T160735
CREATED:20241116T231531Z
LAST-MODIFIED:20241119T091148Z
UID:10000008-1733515200-1733515200@westcoastnewark.com
SUMMARY:Brown - Brown I Test
DESCRIPTION:Full uniform\, Sparring Gear and Membership card.
URL:https://westcoastnewark.com/event/brown-brown-i-test/
CATEGORIES:Belt Testing
END:VEVENT
BEGIN:VEVENT
DTSTART;TZID=America/Los_Angeles:20241206T181500
DTEND;TZID=America/Los_Angeles:20241206T181500
DTSTAMP:20260422T160735
CREATED:20241116T231526Z
LAST-MODIFIED:20241128T044749Z
UID:10000003-1733508900-1733508900@westcoastnewark.com
SUMMARY:Advanced Dragon Testing
DESCRIPTION:Full uniform\, Sparring Gear and Membership card.
URL:https://westcoastnewark.com/event/advanced-dragon-testing/
CATEGORIES:Belt Testing
END:VEVENT
BEGIN:VEVENT
DTSTART;TZID=America/Los_Angeles:20241206T173000
DTEND;TZID=America/Los_Angeles:20241206T173000
DTSTAMP:20260422T160735
CREATED:20241116T231525Z
LAST-MODIFIED:20241128T044749Z
UID:10000002-1733506200-1733506200@westcoastnewark.com
SUMMARY:Intermediate Dragon Testing
DESCRIPTION:Full uniform\, Sparring Gear and Membership card.
URL:https://westcoastnewark.com/event/intermediate-dragon-testing/
CATEGORIES:Belt Testing
END:VEVENT
BEGIN:VEVENT
DTSTART;TZID=America/Los_Angeles:20241206T170000
DTEND;TZID=America/Los_Angeles:20241206T170000
DTSTAMP:20260422T160735
CREATED:20241116T231525Z
LAST-MODIFIED:20241128T044748Z
UID:10000001-1733504400-1733504400@westcoastnewark.com
SUMMARY:Beginner Dragon Testing
DESCRIPTION:Full uniform\, Sparring Gear and Membership card.
URL:https://westcoastnewark.com/event/beginner-dragon-testing/
CATEGORIES:Belt Testing
END:VEVENT
BEGIN:VEVENT
DTSTART;TZID=America/Halifax:20241206T120000
DTEND;TZID=America/Halifax:20241206T120000
DTSTAMP:20260422T160735
CREATED:20241116T231530Z
LAST-MODIFIED:20241119T091148Z
UID:10000007-1733486400-1733486400@westcoastnewark.com
SUMMARY:Brown - Brown I Belt PreTest
DESCRIPTION:Full uniform\, Sparring Gear and Membership card.
URL:https://westcoastnewark.com/event/brown-brown-i-belt-pretest/
CATEGORIES:Belt Testing
END:VEVENT
BEGIN:VEVENT
DTSTART;VALUE=DATE:20241130
DTEND;VALUE=DATE:20241201
DTSTAMP:20260422T160735
CREATED:20241119T090508Z
LAST-MODIFIED:20241128T045153Z
UID:10000020-1732924800-1733011199@westcoastnewark.com
SUMMARY:Thanksgiving  Weekend
DESCRIPTION:Thanksgtiving Holiday – for all of our blessings.
URL:https://westcoastnewark.com/event/thanksgiving-weekend/
CATEGORIES:Holiday
END:VEVENT
BEGIN:VEVENT
DTSTART;VALUE=DATE:20241130
DTEND;VALUE=DATE:20241201
DTSTAMP:20260422T160735
CREATED:20241119T051413Z
LAST-MODIFIED:20241119T051413Z
UID:10000019-1732924800-1733011199@westcoastnewark.com
SUMMARY:Day after Thanksgiving
DESCRIPTION:Thanksgtiving Holiday – for all of our blessings.
URL:https://westcoastnewark.com/event/day-after-thanksgiving/
CATEGORIES:Holiday
END:VEVENT
BEGIN:VEVENT
DTSTART;VALUE=DATE:20241129
DTEND;VALUE=DATE:20241130
DTSTAMP:20260422T160735
CREATED:20241119T051412Z
LAST-MODIFIED:20241128T044953Z
UID:10000018-1732838400-1732924799@westcoastnewark.com
SUMMARY:Thanksgiving/Black Friday
DESCRIPTION:Thanksgtiving Holiday – for all of our blessings.
URL:https://westcoastnewark.com/event/thanksgiving-black-friday/
CATEGORIES:Holiday
END:VEVENT
BEGIN:VEVENT
DTSTART;VALUE=DATE:20241128
DTEND;VALUE=DATE:20241129
DTSTAMP:20260422T160735
CREATED:20241116T231541Z
LAST-MODIFIED:20241128T044952Z
UID:10000012-1732752000-1732838399@westcoastnewark.com
SUMMARY:Thanksgiving Holiday
DESCRIPTION:Thanksgtiving Holiday – for all of our blessings.
URL:https://westcoastnewark.com/event/thanksgiving-holiday/
CATEGORIES:Holiday
END:VEVENT
BEGIN:VEVENT
DTSTART;VALUE=DATE:20241123
DTEND;VALUE=DATE:20241124
DTSTAMP:20260422T160735
CREATED:20241116T231541Z
LAST-MODIFIED:20241119T091205Z
UID:10000011-1732320000-1732406399@westcoastnewark.com
SUMMARY:West Coast Tournament
DESCRIPTION:West Coast Tournament and GraduationBuchser Middle School – 1111 Bellomy St. Santa Clara 95050
URL:https://westcoastnewark.com/event/west-coast-tournament/
CATEGORIES:Tournament
END:VEVENT
END:VCALENDAR